BEGIN:VCALENDAR
VERSION:2.0
PRODID:-//BuchhaldeConnect//Group Events//DE
CALSCALE:GREGORIAN
METHOD:PUBLISH
BEGIN:VEVENT
UID:83f28de2-bdc2-4505-bc6d-370cc5a0f7cc
DTSTAMP:20260421T035247Z
SUMMARY:Reise zu mir selbst - Selbsterfahrungsgruppe für Frauen
DESCRIPTION:In einer geschlossenen Gruppe nehmen wir uns an fünf Abenden bewusst Zeit für uns selbst. Mit Übungen aus der Gestalttherapie und im achtsamen Austausch stärken wir Selbstbewusstsein\, Klarheit und den Kontakt zu unserem Inneren. Dabei ist auch ein Einstieg in eine Meditationspraxis ist geplant.\n\nDie weiterem Termine sind zusätzlich dann am: \nMontag\, 15.06.2026\nMontag\, 22.06.2026\nMontag\, 29.06.2026\nMontag\, 06.07.2026\n
DTSTART;TZID=Europe/Berlin:20260608T170000
DTEND;TZID=Europe/Berlin:20260608T183000
LOCATION:Bürgerforum Buchhalde
URL:https://dettingenconnect.de/groups/reise-zu-mir-selbst-selbsterfahrungsgruppe-fur-frauen/occurrences/529
END:VEVENT
END:VCALENDAR
